BEGIN:VCALENDAR
VERSION:2.0
PRODID:-//Access Foundation - ECPv6.15.17.1//NONSGML v1.0//EN
CALSCALE:GREGORIAN
METHOD:PUBLISH
X-ORIGINAL-URL:https://staging.accessgaf.org
X-WR-CALDESC:Events for Access Foundation
REFRESH-INTERVAL;VALUE=DURATION:PT1H
X-Robots-Tag:noindex
X-PUBLISHED-TTL:PT1H
BEGIN:VTIMEZONE
TZID:America/New_York
BEGIN:DAYLIGHT
TZOFFSETFROM:-0500
TZOFFSETTO:-0400
TZNAME:EDT
DTSTART:20230312T070000
END:DAYLIGHT
BEGIN:STANDARD
TZOFFSETFROM:-0400
TZOFFSETTO:-0500
TZNAME:EST
DTSTART:20231105T060000
END:STANDARD
BEGIN:DAYLIGHT
TZOFFSETFROM:-0500
TZOFFSETTO:-0400
TZNAME:EDT
DTSTART:20240310T070000
END:DAYLIGHT
BEGIN:STANDARD
TZOFFSETFROM:-0400
TZOFFSETTO:-0500
TZNAME:EST
DTSTART:20241103T060000
END:STANDARD
BEGIN:DAYLIGHT
TZOFFSETFROM:-0500
TZOFFSETTO:-0400
TZNAME:EDT
DTSTART:20250309T070000
END:DAYLIGHT
BEGIN:STANDARD
TZOFFSETFROM:-0400
TZOFFSETTO:-0500
TZNAME:EST
DTSTART:20251102T060000
END:STANDARD
END:VTIMEZONE
BEGIN:VEVENT
DTSTART;TZID=America/New_York:20240808T173000
DTEND;TZID=America/New_York:20240808T193000
DTSTAMP:20260422T144431
CREATED:20240806T222908Z
LAST-MODIFIED:20240806T222908Z
UID:2144-1723138200-1723145400@staging.accessgaf.org
SUMMARY:VIBE After FIVE
DESCRIPTION:Join the Perimeter Chamber for its monthly gathering to meet and engage in unparalleled networking opportunities. \nUse the code Access to get the Chamber member pricing\, and make lasting connections!
URL:https://staging.accessgaf.org/event/vibe-after-five/
LOCATION:Dunwoody Nature Center\, 5343 Roberts Drive\, Atlanta\, Georgia\, 30338
CATEGORIES:Community Events
ATTACH;FMTTYPE=image/png:https://staging.accessgaf.org/wp-content/uploads/2024/08/Chamber-Promotions-600-x-500-px-1080-x-1080-px-1.png
END:VEVENT
BEGIN:VEVENT
DTSTART;TZID=America/New_York:20240822T173000
DTEND;TZID=America/New_York:20240822T193000
DTSTAMP:20260422T144431
CREATED:20240806T223136Z
LAST-MODIFIED:20240806T223136Z
UID:2152-1724347800-1724355000@staging.accessgaf.org
SUMMARY:ACE 9th Annual Speed Coaching
DESCRIPTION:This unique event offers you the chance to engage with top business coaches in a dynamic\, 1:1 setting. Attendees will participate in three focused 30-minute sessions. \nUse the code ACCESS20 to get 20% off the registration fee.
URL:https://staging.accessgaf.org/event/ace-9th-annual-speed-coaching/
LOCATION:Le Meridien Perimeter\, 111 Perimeter Center West\, Dunwoody\, Atlanta\, 30346
CATEGORIES:Community Events
ATTACH;FMTTYPE=image/png:https://staging.accessgaf.org/wp-content/uploads/2024/08/Demo-Day-LI_Option-3.png
END:VEVENT
END:VCALENDAR