BEGIN:VCALENDAR
VERSION:2.0
PRODID:-//Access Foundation - ECPv6.15.17.1//NONSGML v1.0//EN
CALSCALE:GREGORIAN
METHOD:PUBLISH
X-ORIGINAL-URL:https://staging.accessgaf.org
X-WR-CALDESC:Events for Access Foundation
REFRESH-INTERVAL;VALUE=DURATION:PT1H
X-Robots-Tag:noindex
X-PUBLISHED-TTL:PT1H
BEGIN:VTIMEZONE
TZID:America/New_York
BEGIN:DAYLIGHT
TZOFFSETFROM:-0500
TZOFFSETTO:-0400
TZNAME:EDT
DTSTART:20250309T070000
END:DAYLIGHT
BEGIN:STANDARD
TZOFFSETFROM:-0400
TZOFFSETTO:-0500
TZNAME:EST
DTSTART:20251102T060000
END:STANDARD
BEGIN:DAYLIGHT
TZOFFSETFROM:-0500
TZOFFSETTO:-0400
TZNAME:EDT
DTSTART:20260308T070000
END:DAYLIGHT
BEGIN:STANDARD
TZOFFSETFROM:-0400
TZOFFSETTO:-0500
TZNAME:EST
DTSTART:20261101T060000
END:STANDARD
BEGIN:DAYLIGHT
TZOFFSETFROM:-0500
TZOFFSETTO:-0400
TZNAME:EDT
DTSTART:20270314T070000
END:DAYLIGHT
BEGIN:STANDARD
TZOFFSETFROM:-0400
TZOFFSETTO:-0500
TZNAME:EST
DTSTART:20271107T060000
END:STANDARD
END:VTIMEZONE
BEGIN:VEVENT
DTSTART;VALUE=DATE:20260708
DTEND;VALUE=DATE:20260709
DTSTAMP:20260420T213649
CREATED:20260113T183334Z
LAST-MODIFIED:20260113T190846Z
UID:3267-1783468800-1783555199@staging.accessgaf.org
SUMMARY:TiE Atlanta Summer Happy Hour
DESCRIPTION:Join us for our Summer Happy Hour on Wednesday\, July 8th. \nOur goal is not to tell you what we’re building\, we’re here to learn about what you’re building and how we can support it. Whether you’re a founder hunting for mentorship and capital connections\, an investor looking to back Atlanta’s next big thing\, or an ecosystem partner wanting to strengthen your innovation hub\, this is your moment to plug in. Grab your spot\, tour Tech Alpharetta’s innovation center\, and let’s talk about what success looks like for you in 2026.
URL:https://staging.accessgaf.org/event/tie-atlanta-summer-happy-hour/
LOCATION:Tech Alpharetta 925 North Point Pkwy Suite 130\, Alpharetta\, Alpharetta\, Georgia – 30005\, Tech Alpharetta 925 North Point Pkwy Suite 130\, Alpharetta\, Alpharetta\, Georgia - 30005\, Atlanta\, 30005\, United States
END:VEVENT
END:VCALENDAR