BEGIN:VCALENDAR
VERSION:2.0
PRODID:-//Access Foundation - ECPv6.15.17.1//NONSGML v1.0//EN
CALSCALE:GREGORIAN
METHOD:PUBLISH
X-WR-CALNAME:Access Foundation
X-ORIGINAL-URL:https://staging.accessgaf.org
X-WR-CALDESC:Events for Access Foundation
REFRESH-INTERVAL;VALUE=DURATION:PT1H
X-Robots-Tag:noindex
X-PUBLISHED-TTL:PT1H
BEGIN:VTIMEZONE
TZID:America/New_York
BEGIN:DAYLIGHT
TZOFFSETFROM:-0500
TZOFFSETTO:-0400
TZNAME:EDT
DTSTART:20250309T070000
END:DAYLIGHT
BEGIN:STANDARD
TZOFFSETFROM:-0400
TZOFFSETTO:-0500
TZNAME:EST
DTSTART:20251102T060000
END:STANDARD
BEGIN:DAYLIGHT
TZOFFSETFROM:-0500
TZOFFSETTO:-0400
TZNAME:EDT
DTSTART:20260308T070000
END:DAYLIGHT
BEGIN:STANDARD
TZOFFSETFROM:-0400
TZOFFSETTO:-0500
TZNAME:EST
DTSTART:20261101T060000
END:STANDARD
BEGIN:DAYLIGHT
TZOFFSETFROM:-0500
TZOFFSETTO:-0400
TZNAME:EDT
DTSTART:20270314T070000
END:DAYLIGHT
BEGIN:STANDARD
TZOFFSETFROM:-0400
TZOFFSETTO:-0500
TZNAME:EST
DTSTART:20271107T060000
END:STANDARD
END:VTIMEZONE
BEGIN:VEVENT
DTSTART;VALUE=DATE:20260303
DTEND;VALUE=DATE:20260304
DTSTAMP:20260420T154526
CREATED:20260120T195200Z
LAST-MODIFIED:20260120T195200Z
UID:3338-1772496000-1772582399@staging.accessgaf.org
SUMMARY:INSIGHT | Power Sessions for Growth | Disc: A Practical Tool for Business Relationships
DESCRIPTION:Insight | Power Sessions for Growth is a monthly professional development series designed for busy professionals who want fast\, focused takeaways. Each session blends 30 minutes of networking with a 20–25-minute “power session” led by a member expert\, followed by interactive discussion. This relaxed breakfast or lunch format makes it easy to learn\, connect\, and apply new ideas. Attendees gain real-world strategies\, and walk away with practical ideas they can implement immediately.\nIntroducing Sara Branch\nSara Branch is a seasoned business strategist and networking professional — founder of Branch Consulting Group. As a “Community Builder\,” she’s dedicated to helping professionals build genuine\, value-driven relationships that go far beyond transactional exchanges.\nWith years of hands-on experience connecting businesses and individuals\, Sara brings a passion for transforming networking from a chore into a growth strategy. She believes in building “warm relationships” that support both personal and professional success.\nIn her January session — “Five Essential Steps of Strategic Networking” — Sara will share practical\, actionable strategies you can apply immediately\, whether you’re a solo entrepreneur\, business leader\, or looking to expand your circle with meaningful connections. Prepare to walk away ready to network with clarity\, purpose\, and results.
URL:https://staging.accessgaf.org/event/insight-power-sessions-for-growth-disc-a-practical-tool-for-business-relationships/
LOCATION:Greater Perimeter Chamber\, 1000 Abernathy Road\, Suite L-10 Sandy Springs\, GA 30328\, Sandy Springs\, 30328\, United States
ORGANIZER;CN="https%3A//greaterperimeterchamber.com/":MAILTO:admin@greaterperimeterchamber.com
END:VEVENT
BEGIN:VEVENT
DTSTART;VALUE=DATE:20260306
DTEND;VALUE=DATE:20260307
DTSTAMP:20260420T154526
CREATED:20260113T202816Z
LAST-MODIFIED:20260113T202909Z
UID:3276-1772755200-1772841599@staging.accessgaf.org
SUMMARY:EWG Annual Leadership Conference
DESCRIPTION:Executive Women of Goizueta’s Conference is returning during Women’s History Month\, and we’re excited to share that our own Kathryn O’Day\, Partner at Atlanta Ventures\, will be joining this year’s panel. Join us on March 6 for the 23rd Annual Leadership Conference\, centered around this year’s theme: Own Your Path: Ignite\, Elevate\, Lead. \nThe conference will feature sessions designed to help attendees take their careers to the next level while supporting EWG’s mission to create a community that facilitates\, promotes\, and inspires personal and professional leadership for Goizueta alumni\, supporters\, and allies. \nDiscussion topics include Leading in an Age of Uncertainty\, How to Be Heard at the Tables That Matter\, The Power of Repositioning\, Courageous Conversations\, The AI Playbook for Leadership in the Age of Intelligent Technology\, and Own Your Power: Crafting a Leadership Legacy. \nTickets include breakfast\, lunch\, happy hour\, and complimentary professional headshots.
URL:https://staging.accessgaf.org/event/ewg-annual-leadership-conference/
LOCATION:Emory Conference Center Hotel\, 1615 Clifton Rd N E Atlanta\, GA 30329\, Atlanta\, 30329\, United States
END:VEVENT
BEGIN:VEVENT
DTSTART;VALUE=DATE:20260318
DTEND;VALUE=DATE:20260319
DTSTAMP:20260420T154526
CREATED:20260129T200900Z
LAST-MODIFIED:20260129T201439Z
UID:3381-1773792000-1773878399@staging.accessgaf.org
SUMMARY:Dunwoody State of the City
DESCRIPTION:The City of Dunwoody and the Greater Perimeter Chamber proudly present Dunwoody’s State of the City Address\, a signature gathering of business\, civic\, and community leaders. This highly anticipated event features Mayor Lynn Deutsch\, who will share a comprehensive update on the City’s progress and outline her vision for Dunwoody’s future. \nAttendees will gain firsthand insight into key initiatives shaping the city while engaging with elected officials\, executives\, and regional influencers committed to Dunwoody’s continued growth and success. This event offers both perspective and connection—bringing together those who live\, lead\, and invest in the community. \nEvent Reminders\nSponsorship\nExplore sponsorship opportunities for this event by visiting our 2026 Total Resource Campaign (see page 6). \nPre-Registration\nPlease register in advance to help us prepare for a seamless experience. Walk-ins cannot always be accommodated and\, if space allows\, will incur a $10 surcharge. All registrations are final and non-refundable. \nPhoto/Video Release\nBy attending\, you consent to the use of event photos and videos in future Greater Perimeter Chamber marketing. \nSpeaker Disclaimer\nThe views shared by event speakers are their own and do not necessarily reflect those of the Greater Perimeter Chamber. \nCommunication Consent\nBy providing your email\, you agree to receive occasional Chamber updates and event invitations. You may unsubscribe at any time. \nJoin us for Dunwoody’s State of the City Address and be part of the conversation shaping the future of our city.
URL:https://staging.accessgaf.org/event/dunwoody-state-of-the-city/
LOCATION:Crown Plaza Atlanta Perimeter at Ravinia\, 4355 Ashford Dunwoody Road Dunwoody\, GA 30346\, Dunwoody\, 30346\, United States
ORGANIZER;CN="Crown Plaza Atlanta Perimeter at Ravinia":MAILTO:None
END:VEVENT
BEGIN:VEVENT
DTSTART;VALUE=DATE:20260330
DTEND;VALUE=DATE:20260402
DTSTAMP:20260420T154526
CREATED:20260115T195827Z
LAST-MODIFIED:20260115T195827Z
UID:3300-1774828800-1775087999@staging.accessgaf.org
SUMMARY:Super South Summit
DESCRIPTION:Super South unites global visionaries to drive transformative and resilient solutions. Join innovators\, entrepreneurs\, academics\, policymakers and civic leaders for an inspiring convening focused on fostering a circular economy\, showcasing sustainable technologies and accelerating climate action. \nA cross-disciplinary program of plenary sessions\, breakouts and expo with industry vertical and multiple cross-theme presentations and panels.
URL:https://staging.accessgaf.org/event/super-south-summit/
LOCATION:Georgia Aquarium\, 225 Baker St NW\, Atlanta\, GA 30313\, Atlanta\, 30313\, United States
END:VEVENT
END:VCALENDAR