BEGIN:VCALENDAR
VERSION:2.0
PRODID:-//Access Foundation - ECPv6.15.17.1//NONSGML v1.0//EN
CALSCALE:GREGORIAN
METHOD:PUBLISH
X-WR-CALNAME:Access Foundation
X-ORIGINAL-URL:https://staging.accessgaf.org
X-WR-CALDESC:Events for Access Foundation
REFRESH-INTERVAL;VALUE=DURATION:PT1H
X-Robots-Tag:noindex
X-PUBLISHED-TTL:PT1H
BEGIN:VTIMEZONE
TZID:America/New_York
BEGIN:DAYLIGHT
TZOFFSETFROM:-0500
TZOFFSETTO:-0400
TZNAME:EDT
DTSTART:20250309T070000
END:DAYLIGHT
BEGIN:STANDARD
TZOFFSETFROM:-0400
TZOFFSETTO:-0500
TZNAME:EST
DTSTART:20251102T060000
END:STANDARD
BEGIN:DAYLIGHT
TZOFFSETFROM:-0500
TZOFFSETTO:-0400
TZNAME:EDT
DTSTART:20260308T070000
END:DAYLIGHT
BEGIN:STANDARD
TZOFFSETFROM:-0400
TZOFFSETTO:-0500
TZNAME:EST
DTSTART:20261101T060000
END:STANDARD
BEGIN:DAYLIGHT
TZOFFSETFROM:-0500
TZOFFSETTO:-0400
TZNAME:EDT
DTSTART:20270314T070000
END:DAYLIGHT
BEGIN:STANDARD
TZOFFSETFROM:-0400
TZOFFSETTO:-0500
TZNAME:EST
DTSTART:20271107T060000
END:STANDARD
END:VTIMEZONE
BEGIN:VEVENT
DTSTART;VALUE=DATE:20260203
DTEND;VALUE=DATE:20260204
DTSTAMP:20260420T171623
CREATED:20260115T170942Z
LAST-MODIFIED:20260120T160252Z
UID:3286-1770076800-1770163199@staging.accessgaf.org
SUMMARY:2026 Atlanta Black Tech Community Summit by Goodie Nation | We Have Friends Everywhere
DESCRIPTION:The 2026 State of the Atlanta Black Tech Community Summit convenes the ecosystem at what is likely the most consequential inflection point in the history of Atlanta Black Tech. \n​The community is navigating a convergence of pressures that cannot be addressed in isolation. A hostile political environment is reshaping access\, funding\, and institutional support. AI has rapidly disrupted the technology sector\, fundamentally changing how work is done\, who is hired\, and what skills are valued. Mass layoffs across the tech industry have disproportionately impacted Black professionals in Atlanta\, with Black women bearing the greatest burden. At the same time\, economic conditions continue to tighten. inflation is rising\, housing costs are increasing\, and job security is declining\, with projections indicating further strain ahead. Public education systems\, from the federal to the local level\, remain under-resourced and unstable\, weakening traditional talent pipelines into technology careers. \n​And yet\, in the midst of this disruption\, Atlanta stands on the cusp of extraordinary global opportunity. \n​As the city prepares to host the 2026 FIFA World Cup\, Atlanta will become a focal point for international investment\, corporate engagement\, cultural exchange\, and economic activity. For the Atlanta Black Tech community\, this moment presents both risk and possibility. Without coordination and preparation\, opportunity will bypass the community. With intention\, alignment\, and skill-building\, it can become a catalyst for revenue generation\, increased visibility\, and durable global relationships.
URL:https://staging.accessgaf.org/event/2026-atlanta-black-tech-community-summit-by-goodie-nation-we-have-friends-everywhere/
LOCATION:RSVP of Etowah County\, 800 Forrest Ave # 221\, Gadsden\, AL 35901\, Gadsden\, AL\, 35901\, United States
ORGANIZER;CN="RSVP of Etowah Conunty":MAILTO:None
END:VEVENT
BEGIN:VEVENT
DTSTART;VALUE=DATE:20260204
DTEND;VALUE=DATE:20260205
DTSTAMP:20260420T171623
CREATED:20260122T201659Z
LAST-MODIFIED:20260122T202257Z
UID:3365-1770163200-1770249599@staging.accessgaf.org
SUMMARY:Startup Capital Raising
DESCRIPTION:Our Feb. 4th workshop on Startup Capital Raising will be held at Tech Alpharetta. For more details click “Read more” below. \n 
URL:https://staging.accessgaf.org/event/startup-capital-raising/
LOCATION:Tech Alpharetta\, 925 North Point Parkway\, Suite 130\, Alpharetta\, GA 30005\, Alpharetta\, 30005\, United States
ORGANIZER;CN="Tech Alpharetta":MAILTO:info@techalpharetta.com
END:VEVENT
BEGIN:VEVENT
DTSTART;VALUE=DATE:20260211
DTEND;VALUE=DATE:20260212
DTSTAMP:20260420T171623
CREATED:20260113T150802Z
LAST-MODIFIED:20260113T215104Z
UID:3248-1770768000-1770854399@staging.accessgaf.org
SUMMARY:TiE Atlanta's February Monthly Meeting - Capital Raising Climate For Scaling Startups
DESCRIPTION:The funding landscape is shifting. At our February Monthly Meeting\, founders and investors will break down what the current capital-raising climate actually looks like\, what has changed\, and how early-stage companies can navigate it. \nThe evening will feature a focused keynote and a practical panel discussion with operators and investors who are active in today’s market. Expect clear insights on fundraising dynamics\, investor expectations\, and the signals that matter for 2026. \nThis session is built for founders preparing to raise\, new investors trying to understand deal flow\, and anyone tracking the state of startup capital. \nJoin us for an informed\, candid look at the road ahead.
URL:https://staging.accessgaf.org/event/tie-atlantas-february-monthly-meeting-capital-raising-climate-for-scaling-startups/
END:VEVENT
BEGIN:VEVENT
DTSTART;VALUE=DATE:20260212
DTEND;VALUE=DATE:20260213
DTSTAMP:20260420T171623
CREATED:20260113T180024Z
LAST-MODIFIED:20260113T190635Z
UID:3262-1770854400-1770940799@staging.accessgaf.org
SUMMARY:Office Hours with Atlanta Ventures
DESCRIPTION:Join us from 12PM-12:30PM and connect with the Atlanta Ventures Team who are ready to answer all questions about vetting your idea\, getting your first customers\, scaling up\, fundraising\, etc. Submit your questions ahead of time when getting your tickets! Then\, join us online\, engage with industry experts\, and get the insights you need to jumpstart or improve your entrepreneurial journey. \nSeize this opportunity and get direct guidance and insight from the Atlanta Ventures team.
URL:https://staging.accessgaf.org/event/office-hours-with-atlanta-ventures/
ORGANIZER;CN="Atlanta Ventures":MAILTO:jane.doe@atlantaventures.com
END:VEVENT
BEGIN:VEVENT
DTSTART;VALUE=DATE:20260212
DTEND;VALUE=DATE:20260213
DTSTAMP:20260420T171623
CREATED:20260115T192238Z
LAST-MODIFIED:20260115T192238Z
UID:3289-1770854400-1770940799@staging.accessgaf.org
SUMMARY:Women's Business Network Lunch | The Strategic Power of No
DESCRIPTION:The Women’s Business Network is a collaborative program presented in partnership by the Greater Perimeter Chamber and the DeKalb Chamber\, bringing together women leaders from across the region for connection\, inspiration\, and impact. Designed to celebrate and empower women as influential voices in business and community\, the program offers thoughtfully curated networking and engaging speaker experiences centered on topics that matter most to women. \nThrough meaningful conversation\, shared insight\, and actionable takeaways\, the Women’s Business Network creates space for professional growth\, authentic relationships\, and collective leadership—strengthening both individual success and the broader business community.
URL:https://staging.accessgaf.org/event/womens-business-network-lunch-the-strategic-power-of-no/
LOCATION:Vino Venue\, 4478 Chamblee Dunwoody Road Dunwoody\, GA 30338\, Dunwoody\, 30338\, United States
END:VEVENT
BEGIN:VEVENT
DTSTART;VALUE=DATE:20260218
DTEND;VALUE=DATE:20260219
DTSTAMP:20260420T171623
CREATED:20260129T193922Z
LAST-MODIFIED:20260129T193922Z
UID:3375-1771372800-1771459199@staging.accessgaf.org
SUMMARY:GPC 2026 Annual Meeting
DESCRIPTION:Join us for the 2026 Greater Perimeter Chamber Annual Meeting\, a milestone event marking one year as a unified regional chamber. This marquee gathering will reflect on the momentum built\, celebrate the leadership that made it possible\, and set a clear\, confident course for the year ahead. \nThe program will recognize board leadership and key contributors\, share strategic priorities\, and bring together members\, partners\, and community leaders committed to the region’s continued growth and impact. It’s both a celebration and a call forward—honoring where we’ve been and focusing on what’s next. \nEvent Reminders\n\n\n\n\nSponsorship\nExplore sponsorship opportunities for this event by visiting our 2026 Total Resource Campaign (see page 5). \nPre-Registration\nPlease register in advance to help us prepare for a seamless experience. Walk-ins cannot always be accommodated and\, if space allows\, will incur a $10 surcharge. All registrations are final and non-refundable. \nPhoto/Video Release\nBy attending\, you consent to the use of event photos and videos in future Greater Perimeter Chamber marketing. \nSpeaker Disclaimer\nThe views shared by event speakers are their own and do not necessarily reflect those of the Greater Perimeter Chamber. \nCommunication Consent\nBy providing your email\, you agree to receive occasional Chamber updates and event invitations. You may unsubscribe at any time. \n\n\n\n\n\n\nJoin us for the 2026 Annual Meeting as we celebrate progress\, recognize leadership\, and shape the future of the Greater Perimeter region—together.
URL:https://staging.accessgaf.org/event/gpc-2026-annual-meeting/
LOCATION:City Springs\, 1 Galambos Way Sandy Springs\, GA 30328\, Sandy Springs\, 30328\, United States
ORGANIZER;CN="City Springs":MAILTO:boxoffice@sandyspringsga.gov
END:VEVENT
BEGIN:VEVENT
DTSTART;VALUE=DATE:20260225
DTEND;VALUE=DATE:20260226
DTSTAMP:20260420T171623
CREATED:20260120T193534Z
LAST-MODIFIED:20260120T193534Z
UID:3334-1771977600-1772063999@staging.accessgaf.org
SUMMARY:Women Founders\, Funders & the Future of Tech\, Presented by ATV & WEI
DESCRIPTION:Join Atlanta’s leading women in tech and venture for an honest conversation on funding\, growth\, and power in startups.\n\n\n\nJoin Atlanta Tech Village’s Women + Tech Program and the Women’s Entrepreneurship Initiative (WEI) for an honest\, high-impact conversation centered on women founders and the capital required to build\, scale\, and sustain successful tech companies. \n\n\n\n\nThis panel brings together women who have built companies\, deployed capital\, and shaped ecosystems—offering a rare\, inside look at how funding decisions are made\, how founders can position themselves for growth\, and how women are redefining what power and success look like in tech and venture. \nOur panelists span venture capital\, startup studios\, healthcare innovation\, AI\, and ecosystem leadership\, and will share candid perspectives on: \n\nAccessing and navigating venture capital as a woman founder\nWhat investors actually look for at early and growth stages\nScaling companies responsibly while building inclusive cultures\nThe evolving role of women as both founders and funders\n\nPanelists include: \n\nJennifer Bonnett (Moderator)\, Serial tech entrepreneur and VP of Technology & Entrepreneurship at Invest Atlanta\, leading the Women’s Entrepreneurship Initiative and focused on AI\, fintech\, sustainable tech\, and scaling entrepreneurial ecosystems\nJewel Burks Solomon\, Managing Partner at Collab Capital and one of Atlanta’s most influential tech leaders\, with deep experience building\, funding\, and advocating for transformative companies\nStefanie Diaz\, Principal of Innovation & Venture Strategy at Catalyst by Wellstar\, investing in and commercializing early-stage healthcare and women’s health innovation\nKathryn O’Day\, Partner at Atlanta Ventures\, former operator\, and startup scaler with multiple successful exits\nAlaina Percival\, Venture Partner at Valor Ventures and former CEO of Women Who Code\, focused on AI\, growth strategy\, and inclusive leadership at scale\n\nWhether you’re a woman founder raising capital\, an operator preparing for growth\, or an aspiring investor\, this conversation will leave you with practical insight\, renewed confidence\, and meaningful connections within Atlanta’s women-led tech community.
URL:https://staging.accessgaf.org/event/women-founders-funders-the-future-of-tech-presented-by-atv-wei/
LOCATION:Atlanta Tech Village – Buckhead\, 3423 Piedmont Road Northeast Atlanta\, GA 30305\, Northeast\, 30305\, United States
ORGANIZER;CN="Atlanta Tech Village - Buckhead":MAILTO:hello@atlantatechvillage.com
END:VEVENT
BEGIN:VEVENT
DTSTART;VALUE=DATE:20260225
DTEND;VALUE=DATE:20260227
DTSTAMP:20260420T171623
CREATED:20260115T194805Z
LAST-MODIFIED:20260115T194805Z
UID:3294-1771977600-1772150399@staging.accessgaf.org
SUMMARY:HBCU EdTech Summit and Career Fair
DESCRIPTION:Get ready for a one-of-a-kind experience at the 2026 HBCU EdTech Summit and Career Fair\, hosted by Innovation For Equity (IFE)! This year’s event is set to be bigger and bolder than ever\, with dynamic keynote speakers\, engaging breakout panels\, and a prestigious awards ceremony honoring trailblazers in education. Join us as we dive into the theme of Designing the Future: Creativity\, Ownership and Opportunity in the AI Era\, where education leaders\, entrepreneurs\, and students will explore cutting-edge topics and engage in discussions from the role of Black communities in shaping digital futures to pathways to workforce advancement. \nIn keeping with IFE’s mission to cultivate and celebrate transformational leaders\, the Summit features a new EdTech Innovators Showcase celebrating student innovators\, start-ups\, and seasoned founders designing equitable solutions that blend technology\, imagination\, and impact. The event also hosts a Career and Networking Fair\, providing college students and early-career professionals from HBCUs the opportunity to connect with top EdTech companies hiring for internships and full-time roles\, and to engage with senior leaders across the industry. \nNow in its fourth year\, this annual Summit leaves participants inspired\, informed\, and equipped to shape the future of EdTech with equity and innovation at the forefront.
URL:https://staging.accessgaf.org/event/hbcu-edtech-summit-and-career-fair/
LOCATION:Morehouse School of Medicine\, Westview Drive Southwest\, Atlanta\, GA\, 720 Westview Dr SW\, Atlanta\, GA 30310\, Atlanta\, 30310
END:VEVENT
END:VCALENDAR