BEGIN:VCALENDAR
VERSION:2.0
PRODID:-//Access Foundation - ECPv6.15.17.1//NONSGML v1.0//EN
CALSCALE:GREGORIAN
METHOD:PUBLISH
X-WR-CALNAME:Access Foundation
X-ORIGINAL-URL:https://staging.accessgaf.org
X-WR-CALDESC:Events for Access Foundation
REFRESH-INTERVAL;VALUE=DURATION:PT1H
X-Robots-Tag:noindex
X-PUBLISHED-TTL:PT1H
BEGIN:VTIMEZONE
TZID:America/New_York
BEGIN:DAYLIGHT
TZOFFSETFROM:-0500
TZOFFSETTO:-0400
TZNAME:EDT
DTSTART:20240310T070000
END:DAYLIGHT
BEGIN:STANDARD
TZOFFSETFROM:-0400
TZOFFSETTO:-0500
TZNAME:EST
DTSTART:20241103T060000
END:STANDARD
BEGIN:DAYLIGHT
TZOFFSETFROM:-0500
TZOFFSETTO:-0400
TZNAME:EDT
DTSTART:20250309T070000
END:DAYLIGHT
BEGIN:STANDARD
TZOFFSETFROM:-0400
TZOFFSETTO:-0500
TZNAME:EST
DTSTART:20251102T060000
END:STANDARD
BEGIN:DAYLIGHT
TZOFFSETFROM:-0500
TZOFFSETTO:-0400
TZNAME:EDT
DTSTART:20260308T070000
END:DAYLIGHT
BEGIN:STANDARD
TZOFFSETFROM:-0400
TZOFFSETTO:-0500
TZNAME:EST
DTSTART:20261101T060000
END:STANDARD
END:VTIMEZONE
BEGIN:VEVENT
DTSTART;TZID=America/New_York:20251106T173000
DTEND;TZID=America/New_York:20251106T190000
DTSTAMP:20260421T001518
CREATED:20251007T193956Z
LAST-MODIFIED:20251007T193956Z
UID:2778-1762450200-1762455600@staging.accessgaf.org
SUMMARY:Multi-Chamber Mixer
DESCRIPTION:Whether you’re looking to expand your professional network\, explore new business opportunities\, or simply engage with like-minded individuals\, this Multi-Chamber Mixer is your gateway to meaningful connections. Join the Greater Perimeter Chamber\, Brookhaven\, and DeKalb Chambers for an evening designed to foster collaboration\, celebrate community\, and elevate your networking experience. \nYour Registration Includes:\n\nOne complimentary drink ticket\nRaffle entry for a chance to win an exciting door prize\nA delicious selection of heavy appetizers\nUnparalleled networking opportunities to build lasting relationships and grow your professional circle
URL:https://staging.accessgaf.org/event/multi-chamber-mixer/
LOCATION:Embassy Suites by Hilton Atlanta Perimeter Center\, 1030 Crown Pointe Pkwy\, Atlanta\, 30338\, United States
END:VEVENT
END:VCALENDAR