BEGIN:VCALENDAR
VERSION:2.0
PRODID:-//Access Foundation - ECPv6.15.17.1//NONSGML v1.0//EN
CALSCALE:GREGORIAN
METHOD:PUBLISH
X-ORIGINAL-URL:https://staging.accessgaf.org
X-WR-CALDESC:Events for Access Foundation
REFRESH-INTERVAL;VALUE=DURATION:PT1H
X-Robots-Tag:noindex
X-PUBLISHED-TTL:PT1H
BEGIN:VTIMEZONE
TZID:America/New_York
BEGIN:DAYLIGHT
TZOFFSETFROM:-0500
TZOFFSETTO:-0400
TZNAME:EDT
DTSTART:20230312T070000
END:DAYLIGHT
BEGIN:STANDARD
TZOFFSETFROM:-0400
TZOFFSETTO:-0500
TZNAME:EST
DTSTART:20231105T060000
END:STANDARD
BEGIN:DAYLIGHT
TZOFFSETFROM:-0500
TZOFFSETTO:-0400
TZNAME:EDT
DTSTART:20240310T070000
END:DAYLIGHT
BEGIN:STANDARD
TZOFFSETFROM:-0400
TZOFFSETTO:-0500
TZNAME:EST
DTSTART:20241103T060000
END:STANDARD
BEGIN:DAYLIGHT
TZOFFSETFROM:-0500
TZOFFSETTO:-0400
TZNAME:EDT
DTSTART:20250309T070000
END:DAYLIGHT
BEGIN:STANDARD
TZOFFSETFROM:-0400
TZOFFSETTO:-0500
TZNAME:EST
DTSTART:20251102T060000
END:STANDARD
END:VTIMEZONE
BEGIN:VEVENT
DTSTART;TZID=America/New_York:20240719T120000
DTEND;TZID=America/New_York:20240719T140000
DTSTAMP:20260421T231029
CREATED:20240716T141946Z
LAST-MODIFIED:20240716T143030Z
UID:2100-1721390400-1721397600@staging.accessgaf.org
SUMMARY:ATDC Feedback Fridays
DESCRIPTION:Are you an entrepreneur or founder considering pitching your business to prospective investors\, clients\, partners\, or employees? \nJoin us at ATDC Feedback Friday\, a safe\, judgment-free space where you can field test or practice your pitch\, benefit from expert insights and recommendations to level up your presentation\, or contribute feedback to other founders. Whether you’re pitching or listening\, you’ll learn best practices for successful startup pitches. \nKey Takeaways: \n\nHow to craft a concise\, compelling pitch\nUnderstanding audience expectations for your pitch\nSpecific feedback on your business concept and investment opportunity (e.g. business model\, customer\, product\, marketing\, etc)\nHone your storytelling and presentation skills\n\nThis event is open to the public and offers a unique opportunity for founders to connect with the Georgia Tech ATDC network and Metro Atlanta’s startup ecosystem. Crafting effective pitches is an iterative process\, and presenters are welcome to attend and present as many times as it takes to dial in your presentation to ‘pitch perfect’. \nEvent Hosts / Facilitators: \n\nCarnella Ajasin\, Entrepreneur in Residence\, ATDC\nJohn Avery\, Director\, ATDC\nConnie Casteel\, SBIR/STTR Connect Catalyst\nSeon King\, Founder & Principal\, IGNITION Pitch Works\nGuest Host\n\nEvent Details: \n\nLocation: ATDC Community Room (directly opposite the reception desk)\, 2nd Floor\, 75 5th St NW\, Atlanta\, GA 30308\nTime: Every Friday\, 12:00-2:00 PM\nZoom: Link provided upon registration\n\nRegister to Pitch! \n\nSubmit your pitch deck here.\nDownload a pitch deck template here if required.\n\nAdditional Information\nAbout the Georgia Tech ATDC: \nThe Advanced Technology Development Center (ATDC) is the oldest accelerator in the United States\, with a proven track record of turning ideas into fundable startups and successful global businesses. The ATDC accelerator program has achieved $35BN+ in economic impact in Georgia\, with $200M+ raised in 2021 and 2022\, with over $2BN raised by our portfolio graduates in 2022. Based in Atlanta\, Georgia\, on the campus of Georgia Tech with chapters across the state\, through our coaching\, connection network\, community events\, curriculum\, and facility\, our mission is to empower communities of talented and motivated founders to build impactful technology companies worldwide. \nSpecial Instructions\n75 5TH ST NW\, ATLANTA\, GA 30308 \nATDC Community Room – 2nd Floor \nHYBRID – EVERY FRIDAY \nClick here to Register
URL:https://staging.accessgaf.org/event/atdc-feedback-fridays/
LOCATION:ATDC\, 75 5th Street NW\, Atlanta\, Georgia\, 30308
CATEGORIES:Community Events
ATTACH;FMTTYPE=image/png:https://staging.accessgaf.org/wp-content/uploads/2024/07/Screen-Shot-2024-07-16-at-10.26.19 AM-e1721140195586.png
END:VEVENT
BEGIN:VEVENT
DTSTART;VALUE=DATE:20240808
DTEND;VALUE=DATE:20240809
DTSTAMP:20260421T231029
CREATED:20240502T144704Z
LAST-MODIFIED:20240502T144704Z
UID:1991-1723075200-1723161599@staging.accessgaf.org
SUMMARY:USPAACC-SE Annual Business Summit
DESCRIPTION:Network and meet new potential business partners\, suppliers and/or clients.\nGain knowledge and the tools to advance your business or profession.\nExpose your business to new opportunities.
URL:https://staging.accessgaf.org/event/uspaacc-se-annual-business-summit/
LOCATION:Gas South Convention Center\, 6400 Sugarloaf Pkwy\, Duluth\, Georgia\, 30097\, United States
CATEGORIES:Community Events
END:VEVENT
BEGIN:VEVENT
DTSTART;TZID=America/New_York:20240808T173000
DTEND;TZID=America/New_York:20240808T193000
DTSTAMP:20260421T231029
CREATED:20240806T222908Z
LAST-MODIFIED:20240806T222908Z
UID:2144-1723138200-1723145400@staging.accessgaf.org
SUMMARY:VIBE After FIVE
DESCRIPTION:Join the Perimeter Chamber for its monthly gathering to meet and engage in unparalleled networking opportunities. \nUse the code Access to get the Chamber member pricing\, and make lasting connections!
URL:https://staging.accessgaf.org/event/vibe-after-five/
LOCATION:Dunwoody Nature Center\, 5343 Roberts Drive\, Atlanta\, Georgia\, 30338
CATEGORIES:Community Events
ATTACH;FMTTYPE=image/png:https://staging.accessgaf.org/wp-content/uploads/2024/08/Chamber-Promotions-600-x-500-px-1080-x-1080-px-1.png
END:VEVENT
BEGIN:VEVENT
DTSTART;TZID=America/New_York:20240719T120000
DTEND;TZID=America/New_York:20240719T140000
DTSTAMP:20260421T231029
CREATED:20240716T141946Z
LAST-MODIFIED:20240716T143030Z
UID:2100-1721390400-1721397600@staging.accessgaf.org
SUMMARY:ATDC Feedback Fridays
DESCRIPTION:Are you an entrepreneur or founder considering pitching your business to prospective investors\, clients\, partners\, or employees? \nJoin us at ATDC Feedback Friday\, a safe\, judgment-free space where you can field test or practice your pitch\, benefit from expert insights and recommendations to level up your presentation\, or contribute feedback to other founders. Whether you’re pitching or listening\, you’ll learn best practices for successful startup pitches. \nKey Takeaways: \n\nHow to craft a concise\, compelling pitch\nUnderstanding audience expectations for your pitch\nSpecific feedback on your business concept and investment opportunity (e.g. business model\, customer\, product\, marketing\, etc)\nHone your storytelling and presentation skills\n\nThis event is open to the public and offers a unique opportunity for founders to connect with the Georgia Tech ATDC network and Metro Atlanta’s startup ecosystem. Crafting effective pitches is an iterative process\, and presenters are welcome to attend and present as many times as it takes to dial in your presentation to ‘pitch perfect’. \nEvent Hosts / Facilitators: \n\nCarnella Ajasin\, Entrepreneur in Residence\, ATDC\nJohn Avery\, Director\, ATDC\nConnie Casteel\, SBIR/STTR Connect Catalyst\nSeon King\, Founder & Principal\, IGNITION Pitch Works\nGuest Host\n\nEvent Details: \n\nLocation: ATDC Community Room (directly opposite the reception desk)\, 2nd Floor\, 75 5th St NW\, Atlanta\, GA 30308\nTime: Every Friday\, 12:00-2:00 PM\nZoom: Link provided upon registration\n\nRegister to Pitch! \n\nSubmit your pitch deck here.\nDownload a pitch deck template here if required.\n\nAdditional Information\nAbout the Georgia Tech ATDC: \nThe Advanced Technology Development Center (ATDC) is the oldest accelerator in the United States\, with a proven track record of turning ideas into fundable startups and successful global businesses. The ATDC accelerator program has achieved $35BN+ in economic impact in Georgia\, with $200M+ raised in 2021 and 2022\, with over $2BN raised by our portfolio graduates in 2022. Based in Atlanta\, Georgia\, on the campus of Georgia Tech with chapters across the state\, through our coaching\, connection network\, community events\, curriculum\, and facility\, our mission is to empower communities of talented and motivated founders to build impactful technology companies worldwide. \nSpecial Instructions\n75 5TH ST NW\, ATLANTA\, GA 30308 \nATDC Community Room – 2nd Floor \nHYBRID – EVERY FRIDAY \nClick here to Register
URL:https://staging.accessgaf.org/event/atdc-feedback-fridays/
LOCATION:ATDC\, 75 5th Street NW\, Atlanta\, Georgia\, 30308
CATEGORIES:Community Events
ATTACH;FMTTYPE=image/png:https://staging.accessgaf.org/wp-content/uploads/2024/07/Screen-Shot-2024-07-16-at-10.26.19 AM-e1721140195586.png
END:VEVENT
BEGIN:VEVENT
DTSTART;TZID=America/New_York:20240719T120000
DTEND;TZID=America/New_York:20240719T140000
DTSTAMP:20260421T231029
CREATED:20240716T141946Z
LAST-MODIFIED:20240716T143030Z
UID:2100-1721390400-1721397600@staging.accessgaf.org
SUMMARY:ATDC Feedback Fridays
DESCRIPTION:Are you an entrepreneur or founder considering pitching your business to prospective investors\, clients\, partners\, or employees? \nJoin us at ATDC Feedback Friday\, a safe\, judgment-free space where you can field test or practice your pitch\, benefit from expert insights and recommendations to level up your presentation\, or contribute feedback to other founders. Whether you’re pitching or listening\, you’ll learn best practices for successful startup pitches. \nKey Takeaways: \n\nHow to craft a concise\, compelling pitch\nUnderstanding audience expectations for your pitch\nSpecific feedback on your business concept and investment opportunity (e.g. business model\, customer\, product\, marketing\, etc)\nHone your storytelling and presentation skills\n\nThis event is open to the public and offers a unique opportunity for founders to connect with the Georgia Tech ATDC network and Metro Atlanta’s startup ecosystem. Crafting effective pitches is an iterative process\, and presenters are welcome to attend and present as many times as it takes to dial in your presentation to ‘pitch perfect’. \nEvent Hosts / Facilitators: \n\nCarnella Ajasin\, Entrepreneur in Residence\, ATDC\nJohn Avery\, Director\, ATDC\nConnie Casteel\, SBIR/STTR Connect Catalyst\nSeon King\, Founder & Principal\, IGNITION Pitch Works\nGuest Host\n\nEvent Details: \n\nLocation: ATDC Community Room (directly opposite the reception desk)\, 2nd Floor\, 75 5th St NW\, Atlanta\, GA 30308\nTime: Every Friday\, 12:00-2:00 PM\nZoom: Link provided upon registration\n\nRegister to Pitch! \n\nSubmit your pitch deck here.\nDownload a pitch deck template here if required.\n\nAdditional Information\nAbout the Georgia Tech ATDC: \nThe Advanced Technology Development Center (ATDC) is the oldest accelerator in the United States\, with a proven track record of turning ideas into fundable startups and successful global businesses. The ATDC accelerator program has achieved $35BN+ in economic impact in Georgia\, with $200M+ raised in 2021 and 2022\, with over $2BN raised by our portfolio graduates in 2022. Based in Atlanta\, Georgia\, on the campus of Georgia Tech with chapters across the state\, through our coaching\, connection network\, community events\, curriculum\, and facility\, our mission is to empower communities of talented and motivated founders to build impactful technology companies worldwide. \nSpecial Instructions\n75 5TH ST NW\, ATLANTA\, GA 30308 \nATDC Community Room – 2nd Floor \nHYBRID – EVERY FRIDAY \nClick here to Register
URL:https://staging.accessgaf.org/event/atdc-feedback-fridays/
LOCATION:ATDC\, 75 5th Street NW\, Atlanta\, Georgia\, 30308
CATEGORIES:Community Events
ATTACH;FMTTYPE=image/png:https://staging.accessgaf.org/wp-content/uploads/2024/07/Screen-Shot-2024-07-16-at-10.26.19 AM-e1721140195586.png
END:VEVENT
BEGIN:VEVENT
DTSTART;TZID=America/New_York:20240817T130000
DTEND;TZID=America/New_York:20240817T170000
DTSTAMP:20260421T231029
CREATED:20240502T144121Z
LAST-MODIFIED:20240806T223248Z
UID:1988-1723899600-1723914000@staging.accessgaf.org
SUMMARY:Access Foundation Demo Day
DESCRIPTION:The ACCESS Founders Cohort is the flagship program of the Foundation. The program supports early-stage entrepreneurs by providing access to capital\, connections\, and coaching – all leading to a dynamic Investor Showcase. Founders get a chance to refine their pitch and meet angel investors that want to help companies grow.
URL:https://staging.accessgaf.org/event/access-foundation-investor-showcase/
LOCATION:Roam Perimeter
CATEGORIES:Access GA Foundation Events
ATTACH;FMTTYPE=image/png:https://staging.accessgaf.org/wp-content/uploads/2024/05/Demo-Day-LI_Option-2.png
END:VEVENT
BEGIN:VEVENT
DTSTART;TZID=America/New_York:20240822T173000
DTEND;TZID=America/New_York:20240822T193000
DTSTAMP:20260421T231029
CREATED:20240806T223136Z
LAST-MODIFIED:20240806T223136Z
UID:2152-1724347800-1724355000@staging.accessgaf.org
SUMMARY:ACE 9th Annual Speed Coaching
DESCRIPTION:This unique event offers you the chance to engage with top business coaches in a dynamic\, 1:1 setting. Attendees will participate in three focused 30-minute sessions. \nUse the code ACCESS20 to get 20% off the registration fee.
URL:https://staging.accessgaf.org/event/ace-9th-annual-speed-coaching/
LOCATION:Le Meridien Perimeter\, 111 Perimeter Center West\, Dunwoody\, Atlanta\, 30346
CATEGORIES:Community Events
ATTACH;FMTTYPE=image/png:https://staging.accessgaf.org/wp-content/uploads/2024/08/Demo-Day-LI_Option-3.png
END:VEVENT
BEGIN:VEVENT
DTSTART;TZID=America/New_York:20240719T120000
DTEND;TZID=America/New_York:20240719T140000
DTSTAMP:20260421T231029
CREATED:20240716T141946Z
LAST-MODIFIED:20240716T143030Z
UID:2100-1721390400-1721397600@staging.accessgaf.org
SUMMARY:ATDC Feedback Fridays
DESCRIPTION:Are you an entrepreneur or founder considering pitching your business to prospective investors\, clients\, partners\, or employees? \nJoin us at ATDC Feedback Friday\, a safe\, judgment-free space where you can field test or practice your pitch\, benefit from expert insights and recommendations to level up your presentation\, or contribute feedback to other founders. Whether you’re pitching or listening\, you’ll learn best practices for successful startup pitches. \nKey Takeaways: \n\nHow to craft a concise\, compelling pitch\nUnderstanding audience expectations for your pitch\nSpecific feedback on your business concept and investment opportunity (e.g. business model\, customer\, product\, marketing\, etc)\nHone your storytelling and presentation skills\n\nThis event is open to the public and offers a unique opportunity for founders to connect with the Georgia Tech ATDC network and Metro Atlanta’s startup ecosystem. Crafting effective pitches is an iterative process\, and presenters are welcome to attend and present as many times as it takes to dial in your presentation to ‘pitch perfect’. \nEvent Hosts / Facilitators: \n\nCarnella Ajasin\, Entrepreneur in Residence\, ATDC\nJohn Avery\, Director\, ATDC\nConnie Casteel\, SBIR/STTR Connect Catalyst\nSeon King\, Founder & Principal\, IGNITION Pitch Works\nGuest Host\n\nEvent Details: \n\nLocation: ATDC Community Room (directly opposite the reception desk)\, 2nd Floor\, 75 5th St NW\, Atlanta\, GA 30308\nTime: Every Friday\, 12:00-2:00 PM\nZoom: Link provided upon registration\n\nRegister to Pitch! \n\nSubmit your pitch deck here.\nDownload a pitch deck template here if required.\n\nAdditional Information\nAbout the Georgia Tech ATDC: \nThe Advanced Technology Development Center (ATDC) is the oldest accelerator in the United States\, with a proven track record of turning ideas into fundable startups and successful global businesses. The ATDC accelerator program has achieved $35BN+ in economic impact in Georgia\, with $200M+ raised in 2021 and 2022\, with over $2BN raised by our portfolio graduates in 2022. Based in Atlanta\, Georgia\, on the campus of Georgia Tech with chapters across the state\, through our coaching\, connection network\, community events\, curriculum\, and facility\, our mission is to empower communities of talented and motivated founders to build impactful technology companies worldwide. \nSpecial Instructions\n75 5TH ST NW\, ATLANTA\, GA 30308 \nATDC Community Room – 2nd Floor \nHYBRID – EVERY FRIDAY \nClick here to Register
URL:https://staging.accessgaf.org/event/atdc-feedback-fridays/
LOCATION:ATDC\, 75 5th Street NW\, Atlanta\, Georgia\, 30308
CATEGORIES:Community Events
ATTACH;FMTTYPE=image/png:https://staging.accessgaf.org/wp-content/uploads/2024/07/Screen-Shot-2024-07-16-at-10.26.19 AM-e1721140195586.png
END:VEVENT
BEGIN:VEVENT
DTSTART;TZID=America/New_York:20240719T120000
DTEND;TZID=America/New_York:20240719T140000
DTSTAMP:20260421T231029
CREATED:20240716T141946Z
LAST-MODIFIED:20240716T143030Z
UID:2100-1721390400-1721397600@staging.accessgaf.org
SUMMARY:ATDC Feedback Fridays
DESCRIPTION:Are you an entrepreneur or founder considering pitching your business to prospective investors\, clients\, partners\, or employees? \nJoin us at ATDC Feedback Friday\, a safe\, judgment-free space where you can field test or practice your pitch\, benefit from expert insights and recommendations to level up your presentation\, or contribute feedback to other founders. Whether you’re pitching or listening\, you’ll learn best practices for successful startup pitches. \nKey Takeaways: \n\nHow to craft a concise\, compelling pitch\nUnderstanding audience expectations for your pitch\nSpecific feedback on your business concept and investment opportunity (e.g. business model\, customer\, product\, marketing\, etc)\nHone your storytelling and presentation skills\n\nThis event is open to the public and offers a unique opportunity for founders to connect with the Georgia Tech ATDC network and Metro Atlanta’s startup ecosystem. Crafting effective pitches is an iterative process\, and presenters are welcome to attend and present as many times as it takes to dial in your presentation to ‘pitch perfect’. \nEvent Hosts / Facilitators: \n\nCarnella Ajasin\, Entrepreneur in Residence\, ATDC\nJohn Avery\, Director\, ATDC\nConnie Casteel\, SBIR/STTR Connect Catalyst\nSeon King\, Founder & Principal\, IGNITION Pitch Works\nGuest Host\n\nEvent Details: \n\nLocation: ATDC Community Room (directly opposite the reception desk)\, 2nd Floor\, 75 5th St NW\, Atlanta\, GA 30308\nTime: Every Friday\, 12:00-2:00 PM\nZoom: Link provided upon registration\n\nRegister to Pitch! \n\nSubmit your pitch deck here.\nDownload a pitch deck template here if required.\n\nAdditional Information\nAbout the Georgia Tech ATDC: \nThe Advanced Technology Development Center (ATDC) is the oldest accelerator in the United States\, with a proven track record of turning ideas into fundable startups and successful global businesses. The ATDC accelerator program has achieved $35BN+ in economic impact in Georgia\, with $200M+ raised in 2021 and 2022\, with over $2BN raised by our portfolio graduates in 2022. Based in Atlanta\, Georgia\, on the campus of Georgia Tech with chapters across the state\, through our coaching\, connection network\, community events\, curriculum\, and facility\, our mission is to empower communities of talented and motivated founders to build impactful technology companies worldwide. \nSpecial Instructions\n75 5TH ST NW\, ATLANTA\, GA 30308 \nATDC Community Room – 2nd Floor \nHYBRID – EVERY FRIDAY \nClick here to Register
URL:https://staging.accessgaf.org/event/atdc-feedback-fridays/
LOCATION:ATDC\, 75 5th Street NW\, Atlanta\, Georgia\, 30308
CATEGORIES:Community Events
ATTACH;FMTTYPE=image/png:https://staging.accessgaf.org/wp-content/uploads/2024/07/Screen-Shot-2024-07-16-at-10.26.19 AM-e1721140195586.png
END:VEVENT
END:VCALENDAR