BEGIN:VCALENDAR
VERSION:2.0
PRODID:-//Access Foundation - ECPv6.15.17.1//NONSGML v1.0//EN
CALSCALE:GREGORIAN
METHOD:PUBLISH
X-WR-CALNAME:Access Foundation
X-ORIGINAL-URL:https://staging.accessgaf.org
X-WR-CALDESC:Events for Access Foundation
REFRESH-INTERVAL;VALUE=DURATION:PT1H
X-Robots-Tag:noindex
X-PUBLISHED-TTL:PT1H
BEGIN:VTIMEZONE
TZID:America/New_York
BEGIN:DAYLIGHT
TZOFFSETFROM:-0500
TZOFFSETTO:-0400
TZNAME:EDT
DTSTART:20230312T070000
END:DAYLIGHT
BEGIN:STANDARD
TZOFFSETFROM:-0400
TZOFFSETTO:-0500
TZNAME:EST
DTSTART:20231105T060000
END:STANDARD
BEGIN:DAYLIGHT
TZOFFSETFROM:-0500
TZOFFSETTO:-0400
TZNAME:EDT
DTSTART:20240310T070000
END:DAYLIGHT
BEGIN:STANDARD
TZOFFSETFROM:-0400
TZOFFSETTO:-0500
TZNAME:EST
DTSTART:20241103T060000
END:STANDARD
BEGIN:DAYLIGHT
TZOFFSETFROM:-0500
TZOFFSETTO:-0400
TZNAME:EDT
DTSTART:20250309T070000
END:DAYLIGHT
BEGIN:STANDARD
TZOFFSETFROM:-0400
TZOFFSETTO:-0500
TZNAME:EST
DTSTART:20251102T060000
END:STANDARD
END:VTIMEZONE
BEGIN:VEVENT
DTSTART;TZID=America/New_York:20240718T180000
DTEND;TZID=America/New_York:20240718T210000
DTSTAMP:20260421T004221
CREATED:20240716T141617Z
LAST-MODIFIED:20240716T143144Z
UID:2097-1721325600-1721336400@staging.accessgaf.org
SUMMARY:Startup Oasis at ATDC - Find a Co-Founder\, Help\, or Join a Startup
DESCRIPTION:If you are a startup founder\, investor\, developer\, marketer\, entrepreneur\, or anyone else in the tech ecosystem looking to start\, join\, or help a tech startup\, this event is for you! Startup founders pitch their business to the audience (similar to Shark Tank)\, then they will join their own breakout room to get feedback from the attendees (similar to a hackathon). People have been able to start a business as a result of this process. If you would like to pitch\, please RSVP here\, and sign up at check-in on the day of the event. \nWe meet on the 3rd Thursday evening of each month in person at our location at ATDC (Tech Square\, 2nd-floor lobby)! If you have any questions\, please reach out! ATDC is a technology incubator with world-class facilities – you will be impressed! \nFree food and drinks are provided beforehand at a partner event with ATDC. ATDC Entrepreneurs Night starts at 5 PM\, our event starts promptly at 7 PM. Everyone here is welcome to attend both events for free. \nSchedule: \n5:00 PM EST – Doors Open/Networking \n5:10 – Catered food and drinks are served \n6:50 – Up to 10 founders are chosen to pitch; please sign up at check-in \n7:00 – Startup Oasis Begins\, each founder gets 3 minutes to pitch \n7:35 to 9 PM – Founders break off into break-out rooms and attendees can move around and help one for the remainder of the time\, similar to a hackathon. \nStartup Oasis was created to pierce the illusion of accessibility of startups and tech by creating a grassroots forum for early-stage founders to pitch to those in the tech ecosystem to get real-time feedback for their idea or business.
URL:https://staging.accessgaf.org/event/startup-oasis-at-atdc-find-a-co-founder-help-or-join-a-startup/
LOCATION:ATDC\, 75 5th Street NW\, Atlanta\, Georgia\, 30308
CATEGORIES:Community Events
ATTACH;FMTTYPE=image/png:https://staging.accessgaf.org/wp-content/uploads/2024/07/Screen-Shot-2024-07-16-at-10.26.28 AM.png
END:VEVENT
BEGIN:VEVENT
DTSTART;TZID=America/New_York:20240718T050000
DTEND;TZID=America/New_York:20240718T190000
DTSTAMP:20260421T004221
CREATED:20240716T141403Z
LAST-MODIFIED:20240716T143344Z
UID:2094-1721278800-1721329200@staging.accessgaf.org
SUMMARY:Entrepreneurs Night: ATL Unlocked Midtown at ATDC
DESCRIPTION:ATDC in collaboration with CreateX and Engage are hosting the next ATL Unlocked Event on July 18th at ATDC from 5pm – 7pm.ATL Unlocked is a partnership between Metro Atlanta Chamber and the innovation and entrepreneurship ecosystem to create access for creators\, innovators and entrepreneurs so they can thrive. ATL Unlocked connects entrepreneurs with innovation centers and entrepreneurs across the region to increase knowledge and access.
URL:https://staging.accessgaf.org/event/entrepreneurs-night-atl-unlocked-midtown-at-atdc/
LOCATION:ATDC\, 75 5th Street NW\, Atlanta\, Georgia\, 30308
CATEGORIES:Community Events
ATTACH;FMTTYPE=image/png:https://staging.accessgaf.org/wp-content/uploads/2024/07/Screen-Shot-2024-07-16-at-10.33.04 AM.png
END:VEVENT
BEGIN:VEVENT
DTSTART;TZID=America/New_York:20240717T180000
DTEND;TZID=America/New_York:20240717T190000
DTSTAMP:20260421T004221
CREATED:20240716T141228Z
LAST-MODIFIED:20240716T143534Z
UID:2092-1721239200-1721242800@staging.accessgaf.org
SUMMARY:Square One Startup School's How to Tap Into a Billion Dollar Market
DESCRIPTION:Unlocking the secrets to identifying and sizing your business’s ideal market. Learn practical insights on market segmentation\, research techniques\, and data analysis\, all designed to help you make informed decisions and drive growth.
URL:https://staging.accessgaf.org/event/square-one-startup-schools-how-to-tap-into-a-billion-dollar-market/
LOCATION:Virtual Event
CATEGORIES:Community Events
ATTACH;FMTTYPE=image/png:https://staging.accessgaf.org/wp-content/uploads/2024/07/Screen-Shot-2024-07-16-at-10.34.04 AM.png
END:VEVENT
BEGIN:VEVENT
DTSTART;VALUE=DATE:20240529
DTEND;VALUE=DATE:20240601
DTSTAMP:20260421T004221
CREATED:20240502T143908Z
LAST-MODIFIED:20240502T143908Z
UID:1984-1716940800-1717199999@staging.accessgaf.org
SUMMARY:CelebrASIAN Conference | Business + Procurement Conference
DESCRIPTION:Join USPAACC when we present CelebrASIAN Business + Procurement Conference 2024 – America’s largest and longest-running business development conference convened by Pan Asian Americans – May 29 to 31 at the Hotel at Avalon in Metro Atlanta. \nCelebrASIAN is the annual flagship event of the US Pan Asian American Chamber of Commerce Education Foundation (USPAACC) that brings together top-caliber participants from the business\, nonprofit\, and government sectors – all under one roof for three days of substantive and unparalleled panel discussions\, actionable workshops\, and exclusive business networking opportunities. \nConnect and learn from inspiring A-list speakers\, industry innovators\, movers and shakers\, decision-makers from Fortune 1000 Corporations\, high-level government officials\, national nonprofit leaders\, premier vendors\, exceptional entrepreneurs\, and rising stars of the Pan Asian American and diverse business communities.
URL:https://staging.accessgaf.org/event/celebrasian-conference-business-procurement-conference/
LOCATION:Hotel at Avalon\, Alpharetta\, GA\, United States
CATEGORIES:Community Events
END:VEVENT
END:VCALENDAR