BEGIN:VCALENDAR
VERSION:2.0
PRODID:-//Access Foundation - ECPv6.15.17.1//NONSGML v1.0//EN
CALSCALE:GREGORIAN
METHOD:PUBLISH
X-WR-CALNAME:Access Foundation
X-ORIGINAL-URL:https://staging.accessgaf.org
X-WR-CALDESC:Events for Access Foundation
REFRESH-INTERVAL;VALUE=DURATION:PT1H
X-Robots-Tag:noindex
X-PUBLISHED-TTL:PT1H
BEGIN:VTIMEZONE
TZID:America/New_York
BEGIN:DAYLIGHT
TZOFFSETFROM:-0500
TZOFFSETTO:-0400
TZNAME:EDT
DTSTART:20250309T070000
END:DAYLIGHT
BEGIN:STANDARD
TZOFFSETFROM:-0400
TZOFFSETTO:-0500
TZNAME:EST
DTSTART:20251102T060000
END:STANDARD
BEGIN:DAYLIGHT
TZOFFSETFROM:-0500
TZOFFSETTO:-0400
TZNAME:EDT
DTSTART:20260308T070000
END:DAYLIGHT
BEGIN:STANDARD
TZOFFSETFROM:-0400
TZOFFSETTO:-0500
TZNAME:EST
DTSTART:20261101T060000
END:STANDARD
BEGIN:DAYLIGHT
TZOFFSETFROM:-0500
TZOFFSETTO:-0400
TZNAME:EDT
DTSTART:20270314T070000
END:DAYLIGHT
BEGIN:STANDARD
TZOFFSETFROM:-0400
TZOFFSETTO:-0500
TZNAME:EST
DTSTART:20271107T060000
END:STANDARD
END:VTIMEZONE
BEGIN:VEVENT
DTSTART;VALUE=DATE:20260129
DTEND;VALUE=DATE:20260130
DTSTAMP:20260420T184603
CREATED:20260115T192718Z
LAST-MODIFIED:20260115T192718Z
UID:3291-1769644800-1769731199@staging.accessgaf.org
SUMMARY:Perimeter Young Professionals Sip & Social @ Mutation Brewing
DESCRIPTION:Perimeter Young Professionals gather periodically for a vibrant after-hours sip and social designed to bring emerging leaders together in a relaxed\, welcoming setting. Through intentional connection and meaningful conversation\, this program creates space for young professionals to build authentic relationships\, exchange ideas\, and expand their influence. It’s where career growth meets community—strengthening individual paths while shaping the future of the regional business ecosystem.
URL:https://staging.accessgaf.org/event/perimeter-young-professionals-sip-social-mutation-brewing/
LOCATION:Mutation Brewing\, 5825 Roswell Road\, NE Sandy Springs\, GA 30328\, Sandy Springs\, 30328\, United States
END:VEVENT
BEGIN:VEVENT
DTSTART;VALUE=DATE:20260129
DTEND;VALUE=DATE:20260130
DTSTAMP:20260420T184603
CREATED:20260120T151149Z
LAST-MODIFIED:20260120T151149Z
UID:3318-1769644800-1769731199@staging.accessgaf.org
SUMMARY:Queens of Innovation Crowntable | January 2026 | World Cup Overview: Preparation\, leadership\, and Intentionality
DESCRIPTION:2026 is not a normal year. With global sporting events\, economic shifts\, and heightened visibility ahead\, women innovators are being asked to lead louder\, faster\, and more publicly. This Crown Table creates intentional space to ground ourselves before we scale ourselves.\nThis session centers clarity on your opportunities\, capacity\, and roles to practically engage with the World cup opportunities\, as well as self-leadership as strategic advantages — not soft skills — and sets the foundation for the months ahead. \n 
URL:https://staging.accessgaf.org/event/queens-of-innovation-crowntable-january-2026-world-cup-overview-preparation-leadership-and-intentionality/
ORGANIZER;CN="https%3A//goodienation.org/contact/":MAILTO:goodienation.org/contact/
END:VEVENT
END:VCALENDAR