BEGIN:VCALENDAR
VERSION:2.0
PRODID:-//Access Foundation - ECPv6.15.17.1//NONSGML v1.0//EN
CALSCALE:GREGORIAN
METHOD:PUBLISH
X-ORIGINAL-URL:https://staging.accessgaf.org
X-WR-CALDESC:Events for Access Foundation
REFRESH-INTERVAL;VALUE=DURATION:PT1H
X-Robots-Tag:noindex
X-PUBLISHED-TTL:PT1H
BEGIN:VTIMEZONE
TZID:America/New_York
BEGIN:DAYLIGHT
TZOFFSETFROM:-0500
TZOFFSETTO:-0400
TZNAME:EDT
DTSTART:20250309T070000
END:DAYLIGHT
BEGIN:STANDARD
TZOFFSETFROM:-0400
TZOFFSETTO:-0500
TZNAME:EST
DTSTART:20251102T060000
END:STANDARD
BEGIN:DAYLIGHT
TZOFFSETFROM:-0500
TZOFFSETTO:-0400
TZNAME:EDT
DTSTART:20260308T070000
END:DAYLIGHT
BEGIN:STANDARD
TZOFFSETFROM:-0400
TZOFFSETTO:-0500
TZNAME:EST
DTSTART:20261101T060000
END:STANDARD
BEGIN:DAYLIGHT
TZOFFSETFROM:-0500
TZOFFSETTO:-0400
TZNAME:EDT
DTSTART:20270314T070000
END:DAYLIGHT
BEGIN:STANDARD
TZOFFSETFROM:-0400
TZOFFSETTO:-0500
TZNAME:EST
DTSTART:20271107T060000
END:STANDARD
END:VTIMEZONE
BEGIN:VEVENT
DTSTART;VALUE=DATE:20260120
DTEND;VALUE=DATE:20260121
DTSTAMP:20260420T225958
CREATED:20260113T145627Z
LAST-MODIFIED:20260113T145627Z
UID:3246-1768867200-1768953599@staging.accessgaf.org
SUMMARY:TiE Atlanta ARC Program Launch\, Social Entrepreneurship & Sustainability
DESCRIPTION:TiE Atlanta is launching the ARC Program to cultivate a culture of shared vision around social entrepreneurship and sustainability. The program is designed to support students\, founders\, and organizations that are working to address real-world challenges through responsible\, impact-driven innovation. \nThe ARC Program will provide mentoring\, nurturing\, and training opportunities\, including exposure to internships\, incubation pathways\, and recognition through awards. Participants will engage with experienced entrepreneurs\, industry leaders\, and community partners who are committed to building sustainable solutions and long-term value. \nThis launch event will introduce the program’s goals\, structure\, and opportunities for involvement\, and will highlight how TiE Atlanta and the TiE Atlanta Foundation are expanding youth and educator programming to support the next generation of impact-oriented leaders. \nDate: Tuesday\, January 20\, 2026 \nTime: 4:00–6:00 PM (ET) \nLocation: Silhouette Midtown\, 1447 Peachtree St\, First Floor\, Atlanta\, GA 30309
URL:https://staging.accessgaf.org/event/tie-atlanta-arc-program-launch-social-entrepreneurship-sustainability-2/
END:VEVENT
END:VCALENDAR