BEGIN:VCALENDAR
VERSION:2.0
PRODID:-//Access Foundation - ECPv6.15.17.1//NONSGML v1.0//EN
CALSCALE:GREGORIAN
METHOD:PUBLISH
X-WR-CALNAME:Access Foundation
X-ORIGINAL-URL:https://staging.accessgaf.org
X-WR-CALDESC:Events for Access Foundation
REFRESH-INTERVAL;VALUE=DURATION:PT1H
X-Robots-Tag:noindex
X-PUBLISHED-TTL:PT1H
BEGIN:VTIMEZONE
TZID:America/New_York
BEGIN:DAYLIGHT
TZOFFSETFROM:-0500
TZOFFSETTO:-0400
TZNAME:EDT
DTSTART:20240310T070000
END:DAYLIGHT
BEGIN:STANDARD
TZOFFSETFROM:-0400
TZOFFSETTO:-0500
TZNAME:EST
DTSTART:20241103T060000
END:STANDARD
BEGIN:DAYLIGHT
TZOFFSETFROM:-0500
TZOFFSETTO:-0400
TZNAME:EDT
DTSTART:20250309T070000
END:DAYLIGHT
BEGIN:STANDARD
TZOFFSETFROM:-0400
TZOFFSETTO:-0500
TZNAME:EST
DTSTART:20251102T060000
END:STANDARD
BEGIN:DAYLIGHT
TZOFFSETFROM:-0500
TZOFFSETTO:-0400
TZNAME:EDT
DTSTART:20260308T070000
END:DAYLIGHT
BEGIN:STANDARD
TZOFFSETFROM:-0400
TZOFFSETTO:-0500
TZNAME:EST
DTSTART:20261101T060000
END:STANDARD
END:VTIMEZONE
BEGIN:VEVENT
DTSTART;TZID=America/New_York:20250423T180000
DTEND;TZID=America/New_York:20250423T203000
DTSTAMP:20260421T121655
CREATED:20250416T163228Z
LAST-MODIFIED:20250416T163228Z
UID:2356-1745431200-1745440200@staging.accessgaf.org
SUMMARY:TiE Atlanta's Spring Happy Hour
DESCRIPTION:This is an opportunity to network and connect with the individuals and groups that comprise Atlanta’s vibrant entrepreneur community and TiE Atlanta Mentors. This event is open to everyone and\, in particular\, is designed for those interested in joining TiE Atlanta to come and learn about everything TiE has to offer for entrepreneurs. \nWhether you’re A long-time member\, a new member\, or a non-member\, we invite you to come to grab a drink with TiE Atlanta. \nEvent Details: \n\nWhere: Advanced Technology Development Center (ATDC)\, 75 5th St NW\, Atlanta\, GA 30332\nDate / Time: Wednesday\, April 23rd\, 2024 From 6:00 – 8:30 PM\n\nFREE For Members / Non-Members And Guests: $20 \nCANCELLATION POLICY – Due To pre-registration costs and guarantees\, refunds or credits are not extended for this event. However\, paid registrations are transferrable. On the day of the event\, the substitute attendee must present a copy of the paid registration receipt or email verification to be admitted to the event. \nPlease note that this is in-person only\, and registration must be made in advance.
URL:https://staging.accessgaf.org/event/tie-atlantas-spring-happy-hour/
LOCATION:ATDC\, 75 5th Street NW\, Atlanta\, Georgia\, 30308
END:VEVENT
END:VCALENDAR