BEGIN:VCALENDAR
VERSION:2.0
PRODID:-//Access Foundation - ECPv6.15.17.1//NONSGML v1.0//EN
CALSCALE:GREGORIAN
METHOD:PUBLISH
X-WR-CALNAME:Access Foundation
X-ORIGINAL-URL:https://staging.accessgaf.org
X-WR-CALDESC:Events for Access Foundation
REFRESH-INTERVAL;VALUE=DURATION:PT1H
X-Robots-Tag:noindex
X-PUBLISHED-TTL:PT1H
BEGIN:VTIMEZONE
TZID:America/New_York
BEGIN:DAYLIGHT
TZOFFSETFROM:-0500
TZOFFSETTO:-0400
TZNAME:EDT
DTSTART:20230312T070000
END:DAYLIGHT
BEGIN:STANDARD
TZOFFSETFROM:-0400
TZOFFSETTO:-0500
TZNAME:EST
DTSTART:20231105T060000
END:STANDARD
BEGIN:DAYLIGHT
TZOFFSETFROM:-0500
TZOFFSETTO:-0400
TZNAME:EDT
DTSTART:20240310T070000
END:DAYLIGHT
BEGIN:STANDARD
TZOFFSETFROM:-0400
TZOFFSETTO:-0500
TZNAME:EST
DTSTART:20241103T060000
END:STANDARD
BEGIN:DAYLIGHT
TZOFFSETFROM:-0500
TZOFFSETTO:-0400
TZNAME:EDT
DTSTART:20250309T070000
END:DAYLIGHT
BEGIN:STANDARD
TZOFFSETFROM:-0400
TZOFFSETTO:-0500
TZNAME:EST
DTSTART:20251102T060000
END:STANDARD
END:VTIMEZONE
BEGIN:VEVENT
DTSTART;TZID=America/New_York:20240717T180000
DTEND;TZID=America/New_York:20240717T190000
DTSTAMP:20260422T025046
CREATED:20240716T141228Z
LAST-MODIFIED:20240716T143534Z
UID:2092-1721239200-1721242800@staging.accessgaf.org
SUMMARY:Square One Startup School's How to Tap Into a Billion Dollar Market
DESCRIPTION:Unlocking the secrets to identifying and sizing your business’s ideal market. Learn practical insights on market segmentation\, research techniques\, and data analysis\, all designed to help you make informed decisions and drive growth.
URL:https://staging.accessgaf.org/event/square-one-startup-schools-how-to-tap-into-a-billion-dollar-market/
LOCATION:Virtual Event
CATEGORIES:Community Events
ATTACH;FMTTYPE=image/png:https://staging.accessgaf.org/wp-content/uploads/2024/07/Screen-Shot-2024-07-16-at-10.34.04 AM.png
END:VEVENT
END:VCALENDAR